BEGIN:VCALENDAR
VERSION:2.0
PRODID:-//https://epidaure.ch///NONSGML kigkonsult.se iCalcreator 2.10.15//
METHOD:PUBLISH
BEGIN:VEVENT
UID:20260421T104013CEST-09562zfN2e@https://epidaure.ch/
DTSTAMP:20260421T084013Z
DESCRIPTION:Troubles psychiques:\n\nAcquérir de solides connaissances de ba
 se sur le sujet\nPermettre un soutien et un suivi adéquat des patients\nPl
 us d’assurance dans le travail quotidien\n\n \nDate: 11 décembre 2024 de 1
 8h à 22h\nDurée totale: 4 heures\nFormateur: Ursula Widmer\nTarif: CHF 108
 .-\n \nInscription ici  https://epidaure.ch/agenda/evenement/181-troubles-
 psychiques-se-desencombrer
DTSTART:20241211T170000Z
DTEND:20241211T210000Z
LOCATION:Cours Zoom (Rue de la Plaine 23 - 1400 Yverdon-les-Bains)
SUMMARY:Troubles psychiques: se désencombrer
URL:https://epidaure.ch/agenda/evenement/181-troubles-psychiques-se-desenco
 mbrer
END:VEVENT
END:VCALENDAR
