BEGIN:VCALENDAR
VERSION:2.0
PRODID:-//https://epidaure.ch///NONSGML kigkonsult.se iCalcreator 2.10.15//
METHOD:PUBLISH
BEGIN:VEVENT
UID:20260420T112510CEST-8745TXut6A@https://epidaure.ch/
DTSTAMP:20260420T092510Z
DESCRIPTION: \n🌍 Dans un monde saturé d’infos… comment s’y retrouver ?\nCha
 que jour\, nous sommes bombardés de contenus. Certains fiables\, d’autres 
 flous\, parfois même risqués.Mais quand on accompagne des patients ou des 
 clients\, l’improvisation n’a pas sa place : ce qu’on transmet doit être j
 uste\, clair et utile.C’est là qu’intervient la gestion de l’information :
 👉 savoir rechercher\,👉 trier\,👉 structurer\,👉 et transmettre l’essentiel —
  sans se noyer.\n\n🎓 Au programme: \n\nIdentifier les sources pertinentes 
 en santé\, psycho\, accompagnement\nRechercher efficacement sans perdre de
 s heures\nÉvaluer la fiabilité d’une source\nStructurer les infos pour mie
 ux les comprendre et les retenir\nAnalyser\, condenser\, transmettre l’ess
 entiel\nApprendre à le partager clairement avec vos patients ou clients\n
 \n🎁 BONUS – L’INFO COMPACT\nUn outil synthétique et pratique : votre fil r
 ouge pour la gestion de l’information\, à garder sous la main au quotidien
 .\n \n💻 Les avantages du format Zoom\n✔️ Zéro déplacement✔️ Le confort de 
 votre espace✔️ La possibilité d’enregistrer et de revoir certains éléments
 \n👉 Pourquoi suivre ce cours?\n\n\nParce que la gestion de l’info\, c’est 
 le cœur discret d’une pratique efficace\n\n\nParce que vous y gagnerez du 
 temps\, de la clarté\, et de la confiance\n\n\nParce que mieux transmettre
 \, c’est aussi mieux accompagner\n\n\n👉 Inscrivez-vous dès maintenant !\nL
 e meilleur moment pour apprendre à mieux gérer l’information\, c’est maint
 enant. Parce que plus tard… c’est souvent trop tard.\n⏳ Attention : places
  limitées !\n \n\nInfos pratiques:💻 Cours en ligne via Zoom\n📅 1 et 2 nove
 mbre 2025\n⏰ De 9h à 18h🎓 Cours animé par Ursula Widmer\, Psychologue LIC.
 PHIL.\nTarif: CHF 432.-\nInscription ici https://epidaure.ch/agenda/tous-l
 es-prochains-cours/evenement/226-psychologie-journees-thematiques-gestion-
 de-linformation-16h
DTSTART:20251101T080000Z
DTEND:20251102T170000Z
LOCATION:Cours Zoom (Rue de la Plaine 23 - 1400 Yverdon-les-Bains)
SUMMARY:Psychologie - journées thématiques: gestion de l'information (16h)
URL:https://epidaure.ch/agenda/tous-les-prochains-cours/evenement/226-psych
 ologie-journees-thematiques-gestion-de-linformation-16h
END:VEVENT
END:VCALENDAR
