BEGIN:VCALENDAR
VERSION:2.0
PRODID:-//https://epidaure.ch///NONSGML kigkonsult.se iCalcreator 2.10.15//
METHOD:PUBLISH
BEGIN:VEVENT
UID:20260420T234809CEST-8867xLFIdi@https://epidaure.ch/
DTSTAMP:20260420T214809Z
DESCRIPTION:Dates: 9\, 10 et 11 octobre 2026 de 9h à 18h\nTarif: CHF 648.-
 \nTous les détails ici\nInscription https://epidaure.ch/agenda/tous-les-pr
 ochains-cours/evenement/378-nutrition-exces-de-poids-et-pathologie-associe
 es
DTSTART:20261009T070000Z
DTEND:20261011T160000Z
LOCATION:Rue des Remparts 5 - 1400 Yverdon-les-Bains (Rue des Remparts 5 - 
 1400 Yverdon-les-Bains)
SUMMARY:Nutrition: Excès de poids et pathologie associées
URL:https://epidaure.ch/agenda/tous-les-prochains-cours/evenement/378-nutri
 tion-exces-de-poids-et-pathologie-associees
END:VEVENT
END:VCALENDAR
