BEGIN:VCALENDAR
VERSION:2.0
PRODID:-//https://epidaure.ch///NONSGML kigkonsult.se iCalcreator 2.10.15//
METHOD:PUBLISH
BEGIN:VEVENT
UID:20260420T234738CEST-039694ONhT@https://epidaure.ch/
DTSTAMP:20260420T214738Z
DESCRIPTION:Dates: 23 et 24 octobre 2026 de 9h à 18h\nTarif: CHF 432.- \nTo
 us les détails ici\nInscription https://epidaure.ch/agenda/tous-les-procha
 ins-cours/evenement/379-nutrition-la-cellule-et-les-nutriments
DTSTART:20261023T070000Z
DTEND:20261024T160000Z
LOCATION:Rue des Remparts 5 - 1400 Yverdon-les-Bains (Rue des Remparts 5 - 
 1400 Yverdon-les-Bains)
SUMMARY:Nutrition: La cellule et les nutriments
URL:https://epidaure.ch/agenda/tous-les-prochains-cours/evenement/379-nutri
 tion-la-cellule-et-les-nutriments
END:VEVENT
END:VCALENDAR
