BEGIN:VCALENDAR
VERSION:2.0
PRODID:-//https://epidaure.ch///NONSGML kigkonsult.se iCalcreator 2.10.15//
METHOD:PUBLISH
BEGIN:VEVENT
UID:20260420T182832CEST-4896mEw4zV@https://epidaure.ch/
DTSTAMP:20260420T162832Z
DESCRIPTION:Tarif: CHF 216.-\nTous les détails ici\nInscription https://epi
 daure.ch/agenda/tous-les-prochains-cours/evenement/380-sels-de-shuessler
DTSTART:20261025T080000Z
DTEND:20261025T170000Z
LOCATION:Rue des Remparts 5 - 1400 Yverdon-les-Bains (Rue des Remparts 5 - 
 1400 Yverdon-les-Bains)
SUMMARY:Sels de Shüssler
URL:https://epidaure.ch/agenda/tous-les-prochains-cours/evenement/380-sels-
 de-shuessler
END:VEVENT
END:VCALENDAR
