BEGIN:VCALENDAR
VERSION:2.0
PRODID:-//https://epidaure.ch///NONSGML kigkonsult.se iCalcreator 2.10.15//
METHOD:PUBLISH
BEGIN:VEVENT
UID:20260421T033327CEST-12951vf4Md@https://epidaure.ch/
DTSTAMP:20260421T013327Z
DESCRIPTION: \nCours à la carte: prix par soirée de CHF 108.-\nFormatrice: 
 Ursula Widmer\nPour chaque soirée\, une thématique différente. Consultez n
 otre agenda pour les autres théamatiques.\nInscription ici\n \n\n  https:/
 /epidaure.ch/agenda/tous-les-prochains-cours/evenement/411-psychologie-soi
 ree-thematique-gestion-du-temps-4h
DTSTART:20260610T160000Z
DTEND:20260610T200000Z
LOCATION:Cours Zoom (Rue de la Plaine 23 - 1400 Yverdon-les-Bains)
SUMMARY:Psychologie - soirée thématique: gestion du temps (4h)
URL:https://epidaure.ch/agenda/tous-les-prochains-cours/evenement/411-psych
 ologie-soiree-thematique-gestion-du-temps-4h
END:VEVENT
END:VCALENDAR
