BEGIN:VCALENDAR
VERSION:2.0
PRODID:-//https://epidaure.ch///NONSGML kigkonsult.se iCalcreator 2.10.15//
METHOD:PUBLISH
BEGIN:VEVENT
UID:20260421T014210CEST-59361X6sjM@https://epidaure.ch/
DTSTAMP:20260420T234210Z
DESCRIPTION: \nCours à la carte: prix par soirée de CHF 108.-\nFormatrice: 
 Ursula Widmer\nPour chaque soirée\, une thématique différente. Consultez n
 otre agenda pour les autres théamatiques.\nInscription ici\n \n\n  https:/
 /epidaure.ch/agenda/tous-les-prochains-cours/evenement/426-psychologie-soi
 ree-thematique-psychologie-du-pardon-4h
DTSTART:20261113T170000Z
DTEND:20261113T210000Z
LOCATION:Cours Zoom (Rue de la Plaine 23 - 1400 Yverdon-les-Bains)
SUMMARY:Psychologie - soirée thématique: psychologie du pardon (4h)
URL:https://epidaure.ch/agenda/tous-les-prochains-cours/evenement/426-psych
 ologie-soiree-thematique-psychologie-du-pardon-4h
END:VEVENT
END:VCALENDAR
