BEGIN:VCALENDAR
VERSION:2.0
PRODID:-//https://epidaure.ch///NONSGML kigkonsult.se iCalcreator 2.10.15//
METHOD:PUBLISH
BEGIN:VEVENT
UID:20260421T104332CEST-2939dBhwvT@https://epidaure.ch/
DTSTAMP:20260421T084332Z
DESCRIPTION:Trouble de Stress Post-Traumatique (TSPT) – Comprendre et savoi
 r accompagner\n \n« Je crois que je deviens fou… » C’est ainsi qu’un de vo
 s patients répond à votre question sur son état actuel. Depuis quelques se
 maines\, il ne dort plus. Il sursaute au moindre bruit\, évite certains li
 eux sans raison apparente et parle en boucle d’un accident survenu il y a 
 des années. « Tout allait mieux\, mais depuis un mois\, c’est comme si tou
 t recommençait… Je crois que je deviens fou »\, murmure-t-il\, le regard f
 uyant.\nVous souhaitez l’aider\, mais comment ? Lui dire que « c’est du pa
 ssé » ne sert à rien… Vous cherchez des repères clairs pour comprendre ce 
 qu’il vit et choisir une approche adaptée.\nUne formation de 4 heures pour
  faire la différence\nFormat : Zoom Pour qui ? Thérapeutes souhaitant acqu
 érir des bases théoriques solides et des pistes d’intervention concrètes à
  intégrer dans leur pratique professionnelle. Objectif : Mieux comprendre 
 le TSPT pour savoir accompagner efficacement.\nContenu du cours :\n✔ Défin
 ition et cadre diagnostique (DSM-5\, CIM-11)\n✔ Symptômes : Reviviscences\
 , évitement\, altérations négatives des cognitions et de l’humeur\, hypera
 ctivation\n✔ Épidémiologie : Qui est touché ? Quelle évolution sans prise 
 en charge ? Facteurs de risque\n✔ Étiologie: Neurobiologie\, théories actu
 elles\n✔ Interventions: psychoéducation\, stabilisation\, exposition gradu
 elle\, intégration\nNe restez pas démuni face au TSPT. Soyez le thérapeute
  qui sait de quoi il parle\, qui dispose de bases théoriques solides pour 
 choisir la meilleure approche pour ses patients !\nFaites-vous plaisir : i
 nscrivez-vous dès maintenant !\nTarif: CHF 108.-\nInscription ici\n \nTous
  les thèmes 2025 ci-dessous: \n https://epidaure.ch/component/rseventspro/
 evenement/250-psychologie-soiree-thematique-trouble-stress-post-traumatiqu
 e-4h?Itemid=101
DTSTART:20250326T170000Z
DTEND:20250326T210000Z
LOCATION:Cours Zoom (Rue de la Plaine 23 - 1400 Yverdon-les-Bains)
SUMMARY:Psychologie soirée thématique: trouble stress post-traumatique (4h)
URL:https://epidaure.ch/component/rseventspro/evenement/250-psychologie-soi
 ree-thematique-trouble-stress-post-traumatique-4h?Itemid=101
END:VEVENT
END:VCALENDAR
