BEGIN:VCALENDAR
VERSION:2.0
PRODID:-//https://epidaure.ch///NONSGML kigkonsult.se iCalcreator 2.10.15//
METHOD:PUBLISH
BEGIN:VEVENT
UID:20260420T112427CEST-76397Cb81V@https://epidaure.ch/
DTSTAMP:20260420T092427Z
DESCRIPTION:Cours de 4 heures par Zoom — pour thérapeutes\, professionnels 
 de l’accompagnement et toute personne intéressée  Vous avez sûrement déjà 
 rencontré ces personnes qui « sentent trop »\, « pensent trop »\, « vivent
  tout plus fort ». Ou peut-être est-ce vous. L’hypersensibilité\, loin d’ê
 tre un effet de mode\, est une réalité neuropsychologique complexe\, encor
 e souvent mal comprise.Elle s’exprime dans le corps\, dans les émotions\, 
 dans les relations — parfois même dans le silence. Elle est source de gran
 de richesse\, mais aussi de fatigue\, de repli\, de souffrance.Ce cours en
  ligne vous plonge au cœur de cette thématique brûlante\, avec clarté\, nu
 ances et fondement scientifique. Il est conçu pour vous donner des clés de
  compréhension et de soutien\, tant dans la relation thérapeutique que dan
 s votre posture personnelle.Et si l’hypersensibilité n’était pas un trop… 
 mais un autrement ? Aspects traités \n- Définition clinique et psychologiq
 ue de l’hypersensibilité- Symptômes fréquents : surcharge sensorielle\, in
 tensité émotionnelle\, hyper-empathie- Formes d’hypersensibilité : émotion
 nelle\, sensorielle\, cognitive\, relationnelle- Épidémiologie : qui est c
 oncerné\, à quel âge\, selon quelles données ?- Étiologie : facteurs neuro
 biologiques\, génétiques\, environnementaux- Soutien thérapeutique : strat
 égies d’accompagnement\, pistes pour les patients hypersensibles N’hésitez
  pas à vous inscrire maintenant ….car ce cours :- vous offre une bulle de 
 calme et de sens\, avec de la profondeur.- vous repartez avec des outils\,
  pas des slogans.- vous permettra de mieux comprendre les patients… mais a
 ussi vos propres réactions en tant que professionnel.- est intense cependa
 nt bienveillant : 4 heures riches\, confortablement installés chez vous\, 
 sans déplacements ni stress.\n \nInfos pratiques📍 Lieu : par zoom📅 Dates :
  24 avril 2025 de 18h à 22h⏳ Durée : 4 heures💰 Tarif : CHF 108.-\nPour cha
 que soirée\, une thématique différente. Consultez notre agenda pour les au
 tres thématiques.\n \nInscription ici\n \n https://epidaure.ch/component/r
 seventspro/evenement/252-psychologie-soiree-thematique-hypersensibilite-4h
 ?Itemid=101
DTSTART:20250423T160000Z
DTEND:20250423T200000Z
LOCATION:Cours Zoom (Rue de la Plaine 23 - 1400 Yverdon-les-Bains)
SUMMARY:Psychologie soirée thématique: Hypersensibilité (4h)
URL:https://epidaure.ch/component/rseventspro/evenement/252-psychologie-soi
 ree-thematique-hypersensibilite-4h?Itemid=101
END:VEVENT
END:VCALENDAR
