BEGIN:VCALENDAR
VERSION:2.0
PRODID:-//https://epidaure.ch///NONSGML kigkonsult.se iCalcreator 2.10.15//
METHOD:PUBLISH
BEGIN:VEVENT
UID:20260420T112308CEST-6334LBZPhJ@https://epidaure.ch/
DTSTAMP:20260420T092308Z
DESCRIPTION:Le TDAH au-delà des étiquettes - Explorer la neurodiversité\nFo
 rmation Zoom – 4h\n« Je fais de mon mieux\, mais je n’y arrive pas. » Cett
 e phrase\, vous l’entendez peut-être souvent. Pourtant\, ces patients ne m
 anquent ni d’intelligence\, ni de volonté. Le TDAH (Trouble de l’Attention
  avec ou sans Hyperactivité) est une réalité complexe\, encore trop méconn
 ue\, mais qui bouleverse la vie quotidienne des concernés. Ce trouble touc
 he toutes les générations\, souvent sans être identifié.\nEt si les compor
 tements 'perturbateurs' étaient des appels au secours d’un cerveau qui fon
 ctionne autrement ?\nLa formation vous propose de découvrir\, d’approfondi
 r :\n🔹 Définition 🔹 Symptômes et manifestations spécifiques 🔹 Diagnostic 🔹
  Comorbidités fréquentes 🔹 Épidémiologie 🔹 Interventions\nUn cours précieu
 x pour transformer le flou en clarté !\nLa formation enrichit votre pratiq
 ue :\nParce que reconnaître la diversité des fonctionnements cognitifs\, c
 ’est enrichir votre posture thérapeutique. Ce cours vous invite à intégrer
  une vision plus inclusive et respectueuse des différences neurologiques.
 \nParce qu’en tant que thérapeute\, savoir repérer un TDAH permet d’éviter
  des erreurs d’interprétation\, de sortir du jugement et de construire une
  alliance plus juste avec vos patients. Ce cours vous aide à entendre autr
 ement les comportements parfois déroutants.\nBonus : un petit support comp
 lémentaire avec des exercices pratiques et validés !\nInscrivez-vous sans 
 tarder – maintenant – et sachez répondre plus finement aux besoins de vos 
 patients!\n \nInfos pratiques📍 Lieu : par zoom📅 Dates : 25 juin 2025 de 18
 h à 22h⏳ Durée : 4 heures💰 Tarif : CHF 108.-\nPour chaque soirée\, une thé
 matique différente. Consultez notre agenda pour les autres théamtiques.\n 
 \nInscription ici\n \n https://epidaure.ch/component/rseventspro/evenement
 /262-psychologie-soiree-thematique-tda-tdah-4h?Itemid=101
DTSTART:20250625T160000Z
DTEND:20250625T200000Z
LOCATION:Cours Zoom (Rue de la Plaine 23 - 1400 Yverdon-les-Bains)
SUMMARY:Psychologie - soirée thématique: TDA & TDAH (4h)
URL:https://epidaure.ch/component/rseventspro/evenement/262-psychologie-soi
 ree-thematique-tda-tdah-4h?Itemid=101
END:VEVENT
END:VCALENDAR
