BEGIN:VCALENDAR
VERSION:2.0
PRODID:-//https://epidaure.ch///NONSGML kigkonsult.se iCalcreator 2.10.15//
METHOD:PUBLISH
BEGIN:VEVENT
UID:20260421T121349CEST-1002WIPXrc@https://epidaure.ch/
DTSTAMP:20260421T101349Z
DESCRIPTION:Dates: 22\, 23\, 24 mai + 6 et 7 juin 2026 de 9h à 18h\nTarif: 
 CHF 1'080.-\ntous les détails ici\nInscription https://epidaure.ch/compone
 nt/rseventspro/evenement/394-spagyrie-40h?Itemid=101
DTSTART:20260522T070000Z
DTEND:20260522T160000Z
LOCATION:Rue des Remparts 5 - 1400 Yverdon-les-Bains (Rue des Remparts 5 - 
 1400 Yverdon-les-Bains)
SUMMARY:Spagyrie (40h)
URL:https://epidaure.ch/component/rseventspro/evenement/394-spagyrie-40h?It
 emid=101
END:VEVENT
END:VCALENDAR
